BEGIN:VCALENDAR
METHOD:PUBLISH
VERSION:2.0
PRODID:-//Apple Inc.//iCal 4.0.1//EN
BEGIN:VEVENT
UID:22363340
DTSTAMP:20260421T040437Z
DTSTART;TZID=US/Eastern:20210927T200000
DTEND;TZID=US/Eastern:20210927T210000
SUMMARY:*VIRTUAL EVENT* CPSC PCN Lead Webinar
DESCRIPTION:<![CDATA[Webinar for PCN Leads to support delivery of PQS requirements for 2021/22]]>
END:VEVENT
CALSCALE:GREGORIAN
END:VCALENDAR
 