BEGIN:VCALENDAR
METHOD:PUBLISH
VERSION:2.0
PRODID:-//Apple Inc.//iCal 4.0.1//EN
BEGIN:VEVENT
UID:20371926
DTSTAMP:20260422T010443Z
DTSTART;VALUE=DATE:20250506
DTEND;VALUE=DATE:20250506
SUMMARY:World Asthma Day
DESCRIPTION:<![CDATA[]]>
END:VEVENT
CALSCALE:GREGORIAN
END:VCALENDAR
 