BEGIN:VCALENDAR
METHOD:PUBLISH
VERSION:2.0
PRODID:-//Apple Inc.//iCal 4.0.1//EN
BEGIN:VEVENT
UID:5139429
DTSTAMP:20260421T220404Z
DTSTART;TZID=US/Eastern:20180909T090000
DTEND;TZID=US/Eastern:20180909T123000
SUMMARY:Locally organised NPA vaccination training session
DESCRIPTION:<![CDATA[Community Pharmacy South Central and Dorset LPC are working in partnership with the NPA to provide Flu Training at local venues in Hampshire &amp; Dorset.]]>
END:VEVENT
CALSCALE:GREGORIAN
END:VCALENDAR
 